BEGIN:VCALENDAR
VERSION:2.0
PRODID:-//Northern Spirit Regional Council - ECPv6.15.20//NONSGML v1.0//EN
CALSCALE:GREGORIAN
METHOD:PUBLISH
X-WR-CALNAME:Northern Spirit Regional Council
X-ORIGINAL-URL:https://northernspiritrc.ca
X-WR-CALDESC:Events for Northern Spirit Regional Council
REFRESH-INTERVAL;VALUE=DURATION:PT1H
X-Robots-Tag:noindex
X-PUBLISHED-TTL:PT1H
BEGIN:VTIMEZONE
TZID:America/Edmonton
BEGIN:DAYLIGHT
TZOFFSETFROM:-0700
TZOFFSETTO:-0600
TZNAME:MDT
DTSTART:20220313T090000
END:DAYLIGHT
BEGIN:STANDARD
TZOFFSETFROM:-0600
TZOFFSETTO:-0700
TZNAME:MST
DTSTART:20221106T080000
END:STANDARD
BEGIN:DAYLIGHT
TZOFFSETFROM:-0700
TZOFFSETTO:-0600
TZNAME:MDT
DTSTART:20230312T090000
END:DAYLIGHT
BEGIN:STANDARD
TZOFFSETFROM:-0600
TZOFFSETTO:-0700
TZNAME:MST
DTSTART:20231105T080000
END:STANDARD
BEGIN:DAYLIGHT
TZOFFSETFROM:-0700
TZOFFSETTO:-0600
TZNAME:MDT
DTSTART:20240310T090000
END:DAYLIGHT
BEGIN:STANDARD
TZOFFSETFROM:-0600
TZOFFSETTO:-0700
TZNAME:MST
DTSTART:20241103T080000
END:STANDARD
END:VTIMEZONE
BEGIN:VEVENT
DTSTART;TZID=America/Edmonton:20230521T130000
DTEND;TZID=America/Edmonton:20230521T140000
DTSTAMP:20260420T184158
CREATED:20230502T201405Z
LAST-MODIFIED:20230509T190534Z
UID:10000186-1684674000-1684677600@northernspiritrc.ca
SUMMARY:Wild Church YEG
DESCRIPTION:Let’s get ROOTED – join Robertson-Wesley’s Wild Church at 1 pm on May 21! \nMeeting at the Stark Oak Tree (found near the eastern wall of the old Royal Alberta Museum building on 102 Ave and 129 St)\, we will explore EARTH as the third in the series\, “Praying with the Elements”. \nPeople and pets of all ages are welcome! Look for the wooden wild church sign to find the gathering. You are invited to linger for a hot drink after worship – please bring an empty mug. Contact us with questions or to arrange transportation if required: wildchurch@rwuc.org . Follow us on Instagram: @wildchurchyeg
URL:https://northernspiritrc.ca/event/wild-church-yeg-2/
LOCATION:Stark Oak Tree\, Edmonton\, 12845-102 Ave NW\, Edmonton\, Alberta\, T5N 0M6\, Canada
CATEGORIES:Community events
ATTACH;FMTTYPE=image/png:https://northernspiritrc.ca/wp-content/uploads/2023/04/Screen-Shot-2022-11-04-at-3.27.44-PM.png
ORGANIZER;CN="Robertson-Wesley United Church":MAILTO:mail@rwuc.org
END:VEVENT
BEGIN:VEVENT
DTSTART;TZID=America/Edmonton:20230521T190000
DTEND;TZID=America/Edmonton:20230521T210000
DTSTAMP:20260420T184158
CREATED:20230420T165457Z
LAST-MODIFIED:20230420T165457Z
UID:10000175-1684695600-1684702800@northernspiritrc.ca
SUMMARY:Scott Woods Old Fashioned Hoedown
DESCRIPTION:• The Scott Woods Show offers the kind of entertainment you just can’t find anymore. Don’t wait to get your tickets – it really is too good to miss!\n• Scott Woods is a multiple Canadian Fiddling Champion. His band is incredible and there’s an excellent step dancer as well. The $45.00 ticket price really is reasonable considering the caliber of this entertainment.\n• If you liked Don Messer’s Jubilee\, or the Tommy Hunter Show\, you’ll love the Scott Woods Show.\nDoors will open an hour ahead as there is no assigned seating. \nCome and enjoy the toe-tapping music of this wonderful group and liven up your long weekend in May.
URL:https://northernspiritrc.ca/event/scott-woods-old-fashioned-hoedown/
LOCATION:St Paul’s United Church Grande Prairie\, 10206 100 Avenue\, Grande Prairie\, Alberta\, T8V 0V6\, Canada
CATEGORIES:Community events
ATTACH;FMTTYPE=image/png:https://northernspiritrc.ca/wp-content/uploads/2023/04/scott-woods-poster-jpeg.png
ORGANIZER;CN="St Paul's United Church%2C Grande Prairie":MAILTO:secretary@stpaulsuc.ca
END:VEVENT
END:VCALENDAR