BEGIN:VCALENDAR
VERSION:2.0
PRODID:-//Northern Spirit Regional Council - ECPv6.15.20//NONSGML v1.0//EN
CALSCALE:GREGORIAN
METHOD:PUBLISH
X-WR-CALNAME:Northern Spirit Regional Council
X-ORIGINAL-URL:https://northernspiritrc.ca
X-WR-CALDESC:Events for Northern Spirit Regional Council
REFRESH-INTERVAL;VALUE=DURATION:PT1H
X-Robots-Tag:noindex
X-PUBLISHED-TTL:PT1H
BEGIN:VTIMEZONE
TZID:America/Edmonton
BEGIN:DAYLIGHT
TZOFFSETFROM:-0700
TZOFFSETTO:-0600
TZNAME:MDT
DTSTART:20220313T090000
END:DAYLIGHT
BEGIN:STANDARD
TZOFFSETFROM:-0600
TZOFFSETTO:-0700
TZNAME:MST
DTSTART:20221106T080000
END:STANDARD
BEGIN:DAYLIGHT
TZOFFSETFROM:-0700
TZOFFSETTO:-0600
TZNAME:MDT
DTSTART:20230312T090000
END:DAYLIGHT
BEGIN:STANDARD
TZOFFSETFROM:-0600
TZOFFSETTO:-0700
TZNAME:MST
DTSTART:20231105T080000
END:STANDARD
BEGIN:DAYLIGHT
TZOFFSETFROM:-0700
TZOFFSETTO:-0600
TZNAME:MDT
DTSTART:20240310T090000
END:DAYLIGHT
BEGIN:STANDARD
TZOFFSETFROM:-0600
TZOFFSETTO:-0700
TZNAME:MST
DTSTART:20241103T080000
END:STANDARD
END:VTIMEZONE
BEGIN:VEVENT
DTSTART;TZID=America/Edmonton:20230518T190000
DTEND;TZID=America/Edmonton:20230518T210000
DTSTAMP:20260420T184158
CREATED:20230412T181248Z
LAST-MODIFIED:20230412T181248Z
UID:10000163-1684436400-1684443600@northernspiritrc.ca
SUMMARY:The Scott Woods Show
DESCRIPTION:We are delighted that the Scott Woods Show is coming to the Wainwright Communiplex on May 18th! \nThis uplifting 2-hour live show features Scott Woods on fiddle and his All-Star band\, including piano\, accordion\, fiddles and rums. You will hear lots of Canadian Old Time Fiddle music\, Traditional Country and Gospel favourites\, fancy instrumentals. sweet harmonies\, smooth vocals\, sensational step dancing\, family humour\, inspirational stories\, and of course some of Scott’s famous trick fiddling – front and back somersaults and walking on a barrel – all while playing his fiddle! And there may be a few surprises as well! \nTickets are $45 and are available from the church office between 9am and noon Mon-Fri for cash\, chq or EMT. \nCredit card purchases available by phone 1-855-726-8896.
URL:https://northernspiritrc.ca/event/the-scott-woods-show/
LOCATION:Grace United Church Wainwright\, 1038 4 Ave\, Wainwright\, Alberta\, T9W 1H2
CATEGORIES:Community events
ATTACH;FMTTYPE=image/jpeg:https://northernspiritrc.ca/wp-content/uploads/2023/04/image0-2.jpeg
ORGANIZER;CN="Grace United Church Wainwright":MAILTO:grunch@telus.net
END:VEVENT
END:VCALENDAR