BEGIN:VCALENDAR
VERSION:2.0
PRODID:-//Northern Spirit Regional Council - ECPv6.15.20//NONSGML v1.0//EN
CALSCALE:GREGORIAN
METHOD:PUBLISH
X-ORIGINAL-URL:https://northernspiritrc.ca
X-WR-CALDESC:Events for Northern Spirit Regional Council
REFRESH-INTERVAL;VALUE=DURATION:PT1H
X-Robots-Tag:noindex
X-PUBLISHED-TTL:PT1H
BEGIN:VTIMEZONE
TZID:America/Edmonton
BEGIN:DAYLIGHT
TZOFFSETFROM:-0700
TZOFFSETTO:-0600
TZNAME:MDT
DTSTART:20220313T090000
END:DAYLIGHT
BEGIN:STANDARD
TZOFFSETFROM:-0600
TZOFFSETTO:-0700
TZNAME:MST
DTSTART:20221106T080000
END:STANDARD
BEGIN:DAYLIGHT
TZOFFSETFROM:-0700
TZOFFSETTO:-0600
TZNAME:MDT
DTSTART:20230312T090000
END:DAYLIGHT
BEGIN:STANDARD
TZOFFSETFROM:-0600
TZOFFSETTO:-0700
TZNAME:MST
DTSTART:20231105T080000
END:STANDARD
BEGIN:DAYLIGHT
TZOFFSETFROM:-0700
TZOFFSETTO:-0600
TZNAME:MDT
DTSTART:20240310T090000
END:DAYLIGHT
BEGIN:STANDARD
TZOFFSETFROM:-0600
TZOFFSETTO:-0700
TZNAME:MST
DTSTART:20241103T080000
END:STANDARD
END:VTIMEZONE
BEGIN:VEVENT
DTSTART;VALUE=DATE:20230427
DTEND;VALUE=DATE:20230430
DTSTAMP:20260420T200715
CREATED:20230222T180830Z
LAST-MODIFIED:20230222T180830Z
UID:10000147-1682553600-1682812799@northernspiritrc.ca
SUMMARY:WOMEN OF THE UNITED CHURCH: 2023 Conference and Annual Meeting: "We Are One"
DESCRIPTION:Women of the United Church\, Chinook Winds and Northern Spirit Regions \nConference and Annual Meeting\n“We Are One”: a look at Bias and Racism \nApril 27-29th\, 2023\nFCJ Christian Life Centre\n219 – 19th Ave. SW\, Calgary\, AB \nGuest Speakers:\nAdele Halliday\, Anti-Racism and Equity Lead\nLorna Berlinguette; Systemic Racism: A New Face Through Literature.\nCarolle Dallas-Arbuckle: The Healing Fund\nCheryle Greyeyes: Elder and wisdom keeper of Cree Nation \nAll Women of the Church are Welcome\nWe last met in person in 2019.We think that you will enjoy and be enriched by the program we have prepared and by meeting and worshipping with other women once again. Registration includes accommodation and all meals\, or if you live close by\, you can choose to come for the day and go home at night. Free parking is available. \nREGISTRATION DEADLINES\nRegistration must be received by March 24\, 2023. Commuters must register by April 17\, 2023. \nFor more information and for access to the registration form\, click here!
URL:https://northernspiritrc.ca/event/women-of-the-united-church-2023-conference-and-annual-meeting-we-are-one/
LOCATION:FCJ Christian Life Centre\, 219 19th Ave. SW\, Calgary\, Alberta\, T2S 0C8\, Canada
ATTACH;FMTTYPE=image/png:https://northernspiritrc.ca/wp-content/uploads/2023/02/UCW-2023-Conference-Poster.png
END:VEVENT
END:VCALENDAR