BEGIN:VCALENDAR
VERSION:2.0
PRODID:-//Northern Spirit Regional Council - ECPv6.15.20//NONSGML v1.0//EN
CALSCALE:GREGORIAN
METHOD:PUBLISH
X-WR-CALNAME:Northern Spirit Regional Council
X-ORIGINAL-URL:https://northernspiritrc.ca
X-WR-CALDESC:Events for Northern Spirit Regional Council
REFRESH-INTERVAL;VALUE=DURATION:PT1H
X-Robots-Tag:noindex
X-PUBLISHED-TTL:PT1H
BEGIN:VTIMEZONE
TZID:America/Edmonton
BEGIN:DAYLIGHT
TZOFFSETFROM:-0700
TZOFFSETTO:-0600
TZNAME:MDT
DTSTART:20220313T090000
END:DAYLIGHT
BEGIN:STANDARD
TZOFFSETFROM:-0600
TZOFFSETTO:-0700
TZNAME:MST
DTSTART:20221106T080000
END:STANDARD
BEGIN:DAYLIGHT
TZOFFSETFROM:-0700
TZOFFSETTO:-0600
TZNAME:MDT
DTSTART:20230312T090000
END:DAYLIGHT
BEGIN:STANDARD
TZOFFSETFROM:-0600
TZOFFSETTO:-0700
TZNAME:MST
DTSTART:20231105T080000
END:STANDARD
BEGIN:DAYLIGHT
TZOFFSETFROM:-0700
TZOFFSETTO:-0600
TZNAME:MDT
DTSTART:20240310T090000
END:DAYLIGHT
BEGIN:STANDARD
TZOFFSETFROM:-0600
TZOFFSETTO:-0700
TZNAME:MST
DTSTART:20241103T080000
END:STANDARD
END:VTIMEZONE
BEGIN:VEVENT
DTSTART;TZID=America/Edmonton:20230416T130000
DTEND;TZID=America/Edmonton:20230416T140000
DTSTAMP:20260420T200718
CREATED:20230404T192503Z
LAST-MODIFIED:20230404T192503Z
UID:10000162-1681650000-1681653600@northernspiritrc.ca
SUMMARY:Wild Church YEG
DESCRIPTION:Join Wild Church at Emily Murphy Park at 1pm on April 16\, 2023! Gathering around a fire\, we will explore WATER as the second in the series\, “Praying with the Elements”. Meet at the east parking lot; bring an empty mug for a hot drink after worship. Cancelled below -15°C with windchill. Contact us at wildchurch@rwuc.org with questions or to arrange transportation if required. Follow us on Instagram @wildchurchyeg .
URL:https://northernspiritrc.ca/event/wild-church-yeg/
LOCATION:Fire Pit at Emily Murphy Park\, 11904 Emily Murphy Park Rd NW\, Edmonton\, Alberta\, Canada
CATEGORIES:Community events
ATTACH;FMTTYPE=image/jpeg:https://northernspiritrc.ca/wp-content/uploads/2023/04/66F049A6-E9D7-436F-84F6-7F7DA76C9A59-e1680636286363.jpeg
ORGANIZER;CN="Robertson-Wesley United Church":MAILTO:mail@rwuc.org
END:VEVENT
END:VCALENDAR