BEGIN:VCALENDAR
VERSION:2.0
PRODID:-//Northern Spirit Regional Council - ECPv6.15.20//NONSGML v1.0//EN
CALSCALE:GREGORIAN
METHOD:PUBLISH
X-WR-CALNAME:Northern Spirit Regional Council
X-ORIGINAL-URL:https://northernspiritrc.ca
X-WR-CALDESC:Events for Northern Spirit Regional Council
REFRESH-INTERVAL;VALUE=DURATION:PT1H
X-Robots-Tag:noindex
X-PUBLISHED-TTL:PT1H
BEGIN:VTIMEZONE
TZID:America/Edmonton
BEGIN:DAYLIGHT
TZOFFSETFROM:-0700
TZOFFSETTO:-0600
TZNAME:MDT
DTSTART:20220313T090000
END:DAYLIGHT
BEGIN:STANDARD
TZOFFSETFROM:-0600
TZOFFSETTO:-0700
TZNAME:MST
DTSTART:20221106T080000
END:STANDARD
BEGIN:DAYLIGHT
TZOFFSETFROM:-0700
TZOFFSETTO:-0600
TZNAME:MDT
DTSTART:20230312T090000
END:DAYLIGHT
BEGIN:STANDARD
TZOFFSETFROM:-0600
TZOFFSETTO:-0700
TZNAME:MST
DTSTART:20231105T080000
END:STANDARD
BEGIN:DAYLIGHT
TZOFFSETFROM:-0700
TZOFFSETTO:-0600
TZNAME:MDT
DTSTART:20240310T090000
END:DAYLIGHT
BEGIN:STANDARD
TZOFFSETFROM:-0600
TZOFFSETTO:-0700
TZNAME:MST
DTSTART:20241103T080000
END:STANDARD
END:VTIMEZONE
BEGIN:VEVENT
DTSTART;TZID=America/Edmonton:20230409T070000
DTEND;TZID=America/Edmonton:20230409T100000
DTSTAMP:20260420T200716
CREATED:20230310T170711Z
LAST-MODIFIED:20230310T170711Z
UID:10000151-1681023600-1681034400@northernspiritrc.ca
SUMMARY:UNITED CHURCH EASTER SUNRISE SERVICE
DESCRIPTION:Sunday\, April 9 (7:00am) \nFire Pit at Emily Murphy Park\, Edmonton – (11904 Emily Murphy Park Rd NW) \nWarm yourself around a shared fire as the sun’s new light creeps through the trees and sing the first Hallelujahs of a new Easter morning. Bring your favourite morning beverage to enjoy. \nOrganized by United Churches in Edmonton. For more information\, contact Blaine Gregg at minister@spiritofhope.ca.
URL:https://northernspiritrc.ca/event/united-church-easter-sunrise-service/
LOCATION:Fire Pit at Emily Murphy Park\, 11904 Emily Murphy Park Rd NW\, Edmonton\, Alberta\, Canada
ATTACH;FMTTYPE=image/jpeg:https://northernspiritrc.ca/wp-content/uploads/2023/03/oc-gonzalez-xg8z_KhSorQ-unsplash-scaled.jpg
END:VEVENT
END:VCALENDAR