BEGIN:VCALENDAR
VERSION:2.0
PRODID:-//Northern Spirit Regional Council - ECPv6.15.20//NONSGML v1.0//EN
CALSCALE:GREGORIAN
METHOD:PUBLISH
X-ORIGINAL-URL:https://northernspiritrc.ca
X-WR-CALDESC:Events for Northern Spirit Regional Council
REFRESH-INTERVAL;VALUE=DURATION:PT1H
X-Robots-Tag:noindex
X-PUBLISHED-TTL:PT1H
BEGIN:VTIMEZONE
TZID:America/Edmonton
BEGIN:DAYLIGHT
TZOFFSETFROM:-0700
TZOFFSETTO:-0600
TZNAME:MDT
DTSTART:20220313T090000
END:DAYLIGHT
BEGIN:STANDARD
TZOFFSETFROM:-0600
TZOFFSETTO:-0700
TZNAME:MST
DTSTART:20221106T080000
END:STANDARD
BEGIN:DAYLIGHT
TZOFFSETFROM:-0700
TZOFFSETTO:-0600
TZNAME:MDT
DTSTART:20230312T090000
END:DAYLIGHT
BEGIN:STANDARD
TZOFFSETFROM:-0600
TZOFFSETTO:-0700
TZNAME:MST
DTSTART:20231105T080000
END:STANDARD
BEGIN:DAYLIGHT
TZOFFSETFROM:-0700
TZOFFSETTO:-0600
TZNAME:MDT
DTSTART:20240310T090000
END:DAYLIGHT
BEGIN:STANDARD
TZOFFSETFROM:-0600
TZOFFSETTO:-0700
TZNAME:MST
DTSTART:20241103T080000
END:STANDARD
END:VTIMEZONE
BEGIN:VEVENT
DTSTART;VALUE=DATE:20230403
DTEND;VALUE=DATE:20230407
DTSTAMP:20260420T200715
CREATED:20230329T192823Z
LAST-MODIFIED:20230329T192823Z
UID:10000160-1680480000-1680825599@northernspiritrc.ca
SUMMARY:Walk the Labyrinth: Mill Woods United Church
DESCRIPTION:Spiritual Practice of Walking the Labyrinth in Millwoods United Church\, starting on Monday through Maundy Thursday (April 3-6). \nOn Monday the Labyrinth is open from noon to 3:00 PM; on Tuesday\, Wednesday and Thursday from 9:00 AM to 3:00 PM. \nAll are welcome.
URL:https://northernspiritrc.ca/event/walk-the-labyrinth-mill-woods-united-church/
LOCATION:Mill Woods United Church\, 15 Grand Meadow Cres\, Edmonton\, AB\, T6L 1A1\, Canada
CATEGORIES:Community events
ATTACH;FMTTYPE=image/jpeg:https://northernspiritrc.ca/wp-content/uploads/2023/03/Lenten_Labyrinth_HR-large-scaled.jpg
END:VEVENT
BEGIN:VEVENT
DTSTART;TZID=America/Edmonton:20230404T190000
DTEND;TZID=America/Edmonton:20230404T210000
DTSTAMP:20260420T200715
CREATED:20230328T200346Z
LAST-MODIFIED:20230328T200346Z
UID:10000158-1680634800-1680642000@northernspiritrc.ca
SUMMARY:The Elements – Movement Workshop
DESCRIPTION:April 4\, 7 – 9 pm in Room 11 at Robertson-Wesley \nFor generations\, different cultures have tried to understand the universe by breaking it down into its basic elements: often this means fire\, earth\, air\, and water. This movement workshop will explore how these elements (and others!) can help us in performance or daily life – or in other uses of our imagination.    – Facilitated by Charlie Peters.
URL:https://northernspiritrc.ca/event/the-elements-movement-workshop/
LOCATION:Robertson-Wesley United Church\, 10209 123 st\, Edmonton\, Alberta\, T5N 1N3\, Canada
CATEGORIES:Community events
ATTACH;FMTTYPE=image/png:https://northernspiritrc.ca/wp-content/uploads/2023/03/the-elements-1280-×-720-px-1.png
ORGANIZER;CN="Robertson-Wesley United Church":MAILTO:mail@rwuc.org
END:VEVENT
END:VCALENDAR