BEGIN:VCALENDAR
VERSION:2.0
PRODID:-//Northern Spirit Regional Council - ECPv6.15.20//NONSGML v1.0//EN
CALSCALE:GREGORIAN
METHOD:PUBLISH
X-ORIGINAL-URL:https://northernspiritrc.ca
X-WR-CALDESC:Events for Northern Spirit Regional Council
REFRESH-INTERVAL;VALUE=DURATION:PT1H
X-Robots-Tag:noindex
X-PUBLISHED-TTL:PT1H
BEGIN:VTIMEZONE
TZID:America/Edmonton
BEGIN:DAYLIGHT
TZOFFSETFROM:-0700
TZOFFSETTO:-0600
TZNAME:MDT
DTSTART:20220313T090000
END:DAYLIGHT
BEGIN:STANDARD
TZOFFSETFROM:-0600
TZOFFSETTO:-0700
TZNAME:MST
DTSTART:20221106T080000
END:STANDARD
BEGIN:DAYLIGHT
TZOFFSETFROM:-0700
TZOFFSETTO:-0600
TZNAME:MDT
DTSTART:20230312T090000
END:DAYLIGHT
BEGIN:STANDARD
TZOFFSETFROM:-0600
TZOFFSETTO:-0700
TZNAME:MST
DTSTART:20231105T080000
END:STANDARD
BEGIN:DAYLIGHT
TZOFFSETFROM:-0700
TZOFFSETTO:-0600
TZNAME:MDT
DTSTART:20240310T090000
END:DAYLIGHT
BEGIN:STANDARD
TZOFFSETFROM:-0600
TZOFFSETTO:-0700
TZNAME:MST
DTSTART:20241103T080000
END:STANDARD
END:VTIMEZONE
BEGIN:VEVENT
DTSTART;VALUE=DATE:20230303
DTEND;VALUE=DATE:20230305
DTSTAMP:20260420T230555
CREATED:20230113T175713Z
LAST-MODIFIED:20230124T211540Z
UID:10000137-1677801600-1677974399@northernspiritrc.ca
SUMMARY:The Art of Living and Dying Workshop Series
DESCRIPTION:The Art of Living & Dying Series is more about living than about the end of life. This series of four internationally acclaimed workshops draws from the wisdom of our ancestors that the quality of life is enhanced when we do not live in fear or denial of suffering or our mortality. The results of facing or “leaning into”’ existential-spiritual pain are profound for both care-givers and care receivers and include:\n• Physical and emotional well-being\n• Antidotes for compassion fatigue and burnout\n• Enhanced capacity for healing\n• Improved pain and symptom-control management\n• Peace of mind and improved relationships \nEach workshop is an interactive and inspirational learning experience appropriate for professional and lay caregivers alike\, and are followed by a three-month study group process called Circles of Trust©. Participants explore universal patterns of spiritual and emotional suffering with time-tested ways to relieve them. All programs are a creative blend of best practices\, instruction\, personal reflection\, hands-on experience\, multimedia presentations\, and creative rituals from the world’s great wisdom traditions. \nSpecial United Church single + group pricing available. \nFor registration information email karin@sacredartofliving.org \n \nFull four workshop series flyer – UCC \nModule One Workshop:\nUnderstanding Spiritual Suffering\nMarch 3-4\, 2023 \nModule Two Workshop:\nRecognizing Spiritual Suffering\nMay 19-20\, 2023 \nModule Three Workshop:\nResponding to Spiritual Suffering\nSeptember 29-30\, 2023 \nModule Four Workshop:\nTransforming Spiritual Suffering\nJanuary 19-20\, 2024
URL:https://northernspiritrc.ca/event/the-art-of-living-and-dying-workshop-series/
LOCATION:AB
CATEGORIES:Community events
ATTACH;FMTTYPE=application/pdf:https://northernspiritrc.ca/wp-content/uploads/2023/01/Module-1-Understanding-Spiritual-Suffering-Flyer-UCC.pdf
END:VEVENT
END:VCALENDAR