BEGIN:VCALENDAR
VERSION:2.0
PRODID:-//Northern Spirit Regional Council - ECPv6.15.20//NONSGML v1.0//EN
CALSCALE:GREGORIAN
METHOD:PUBLISH
X-ORIGINAL-URL:https://northernspiritrc.ca
X-WR-CALDESC:Events for Northern Spirit Regional Council
REFRESH-INTERVAL;VALUE=DURATION:PT1H
X-Robots-Tag:noindex
X-PUBLISHED-TTL:PT1H
BEGIN:VTIMEZONE
TZID:America/Edmonton
BEGIN:DAYLIGHT
TZOFFSETFROM:-0700
TZOFFSETTO:-0600
TZNAME:MDT
DTSTART:20220313T090000
END:DAYLIGHT
BEGIN:STANDARD
TZOFFSETFROM:-0600
TZOFFSETTO:-0700
TZNAME:MST
DTSTART:20221106T080000
END:STANDARD
BEGIN:DAYLIGHT
TZOFFSETFROM:-0700
TZOFFSETTO:-0600
TZNAME:MDT
DTSTART:20230312T090000
END:DAYLIGHT
BEGIN:STANDARD
TZOFFSETFROM:-0600
TZOFFSETTO:-0700
TZNAME:MST
DTSTART:20231105T080000
END:STANDARD
BEGIN:DAYLIGHT
TZOFFSETFROM:-0700
TZOFFSETTO:-0600
TZNAME:MDT
DTSTART:20240310T090000
END:DAYLIGHT
BEGIN:STANDARD
TZOFFSETFROM:-0600
TZOFFSETTO:-0700
TZNAME:MST
DTSTART:20241103T080000
END:STANDARD
END:VTIMEZONE
BEGIN:VEVENT
DTSTART;TZID=America/Edmonton:20230301T190000
DTEND;TZID=America/Edmonton:20230301T203000
DTSTAMP:20260420T221436
CREATED:20230207T175114Z
LAST-MODIFIED:20230214T200509Z
UID:10000144-1677697200-1677702600@northernspiritrc.ca
SUMMARY:Being Good Relations Network Learning for Lent Event
DESCRIPTION:Instead of Chocolate\, Why Not Give Up Myths & Misconceptions This Lent?\nJoin Grace Hussey\, BSW\, RSW & Student Minister\, to learn the facts about Canadian Indigenous Issues in a safe online space. We will be reading & discussing Chelsea Vowel’s informative & funny book\, “Indigenous Writes”. Come to 1 or all 5 sessions running Wednesdays 7-8:30pm MST\, from March 1st-29th\, 2023. You are also welcome to sign up & join online as a group! \nWe Hope to see you there! \nPlease Register by Sun. Feb. 26th\, 2023. To register click here\, or scan the QR code. \nContact Grace if you have any questions or concerns.
URL:https://northernspiritrc.ca/event/learning-for-lent-book-study/
LOCATION:Zoom
CATEGORIES:Regional event,Right Relations
ATTACH;FMTTYPE=image/png:https://northernspiritrc.ca/wp-content/uploads/2023/02/Learning-for-Lent-Poster_Final.png
END:VEVENT
BEGIN:VEVENT
DTSTART;TZID=America/Edmonton:20230301T190000
DTEND;TZID=America/Edmonton:20230301T210000
DTSTAMP:20260420T221436
CREATED:20230131T202443Z
LAST-MODIFIED:20230131T202541Z
UID:10000140-1677697200-1677704400@northernspiritrc.ca
SUMMARY:Liberating Liturgy
DESCRIPTION:★ Liberating Liturgy: Wednesday\, March 1\, 7:00 – 9:00 pm\nFeaturing Dr. Becca Whitla\, Professor of Practical Ministry and Lydia E. Gruchy Chair in Pastoral Theology. Livestreamed by the Saskatoon Theological Union.\nDr. Whitla explores what it means to liberate liturgy in today’s contexts. Drawing from the experience of several communities\, she proposes that churches that want to fully embrace the multilingual\, multiethnic\, multicultural realities of the Canadian context need to examine and transform what goes on at church on a Sunday morning. Using a couple of case studies – singing and territorial acknowledgements – she proposes some initial principles for liberating and decolonizing how we worship. There will even be a couple of chances to sing and dance. Please join us for some mid-winter warmth and conversation!!! Please register for both in-person and livestream options by emailing standrews.college@saskatoontheologicalunion.ca by February 22.
URL:https://northernspiritrc.ca/event/liberating-liturgy/
LOCATION:Livestream
CATEGORIES:Community events
END:VEVENT
END:VCALENDAR