BEGIN:VCALENDAR
VERSION:2.0
PRODID:-//Northern Spirit Regional Council - ECPv6.15.20//NONSGML v1.0//EN
CALSCALE:GREGORIAN
METHOD:PUBLISH
X-ORIGINAL-URL:https://northernspiritrc.ca
X-WR-CALDESC:Events for Northern Spirit Regional Council
REFRESH-INTERVAL;VALUE=DURATION:PT1H
X-Robots-Tag:noindex
X-PUBLISHED-TTL:PT1H
BEGIN:VTIMEZONE
TZID:America/Edmonton
BEGIN:DAYLIGHT
TZOFFSETFROM:-0700
TZOFFSETTO:-0600
TZNAME:MDT
DTSTART:20220313T090000
END:DAYLIGHT
BEGIN:STANDARD
TZOFFSETFROM:-0600
TZOFFSETTO:-0700
TZNAME:MST
DTSTART:20221106T080000
END:STANDARD
BEGIN:DAYLIGHT
TZOFFSETFROM:-0700
TZOFFSETTO:-0600
TZNAME:MDT
DTSTART:20230312T090000
END:DAYLIGHT
BEGIN:STANDARD
TZOFFSETFROM:-0600
TZOFFSETTO:-0700
TZNAME:MST
DTSTART:20231105T080000
END:STANDARD
BEGIN:DAYLIGHT
TZOFFSETFROM:-0700
TZOFFSETTO:-0600
TZNAME:MDT
DTSTART:20240310T090000
END:DAYLIGHT
BEGIN:STANDARD
TZOFFSETFROM:-0600
TZOFFSETTO:-0700
TZNAME:MST
DTSTART:20241103T080000
END:STANDARD
END:VTIMEZONE
BEGIN:VEVENT
DTSTART;TZID=America/Edmonton:20230226T103000
DTEND;TZID=America/Edmonton:20230226T130000
DTSTAMP:20260420T231215
CREATED:20230221T215425Z
LAST-MODIFIED:20230221T215425Z
UID:10000146-1677407400-1677416400@northernspiritrc.ca
SUMMARY:"I Can't Breathe": Black History Month film screening
DESCRIPTION:“I Can’t Breathe” honours Black History Month at McDougall United Church\, Edmonton – Sunday\, February 26\, 10:30 am.    \nRed Deer film maker Love Nwigwe shares true stories of racial discrimination faced by Black people living in Canada.  The film features a Red Deer family whose members are grappling with what can and must be done to put an end to the prejudice and harm that many in their community endure.  There will be a Q & A with the film maker following the service – and a pancake lunch!  Our address is 10025 – 101 Street\, Edmonton\, phone 780-428-1818 or email info@mcdougallunited.com
URL:https://northernspiritrc.ca/event/i-cant-breathe-black-history-month-film-screening/
LOCATION:McDougall United Church\, 10025 101 Street\, Edmonton\, Alberta\, T5J 2B7\, Canada
CATEGORIES:Community events
ATTACH;FMTTYPE=image/jpeg:https://northernspiritrc.ca/wp-content/uploads/2023/02/timothy-eberly-dTLlhgeEJWg-unsplash-scaled.jpg
ORGANIZER;CN="McDougall United Church":MAILTO:info@mcdougallunited.com
END:VEVENT
END:VCALENDAR