BEGIN:VCALENDAR
VERSION:2.0
PRODID:-//Northern Spirit Regional Council - ECPv6.15.20//NONSGML v1.0//EN
CALSCALE:GREGORIAN
METHOD:PUBLISH
X-WR-CALNAME:Northern Spirit Regional Council
X-ORIGINAL-URL:https://northernspiritrc.ca
X-WR-CALDESC:Events for Northern Spirit Regional Council
REFRESH-INTERVAL;VALUE=DURATION:PT1H
X-Robots-Tag:noindex
X-PUBLISHED-TTL:PT1H
BEGIN:VTIMEZONE
TZID:America/Edmonton
BEGIN:DAYLIGHT
TZOFFSETFROM:-0700
TZOFFSETTO:-0600
TZNAME:MDT
DTSTART:20220313T090000
END:DAYLIGHT
BEGIN:STANDARD
TZOFFSETFROM:-0600
TZOFFSETTO:-0700
TZNAME:MST
DTSTART:20221106T080000
END:STANDARD
BEGIN:DAYLIGHT
TZOFFSETFROM:-0700
TZOFFSETTO:-0600
TZNAME:MDT
DTSTART:20230312T090000
END:DAYLIGHT
BEGIN:STANDARD
TZOFFSETFROM:-0600
TZOFFSETTO:-0700
TZNAME:MST
DTSTART:20231105T080000
END:STANDARD
BEGIN:DAYLIGHT
TZOFFSETFROM:-0700
TZOFFSETTO:-0600
TZNAME:MDT
DTSTART:20240310T090000
END:DAYLIGHT
BEGIN:STANDARD
TZOFFSETFROM:-0600
TZOFFSETTO:-0700
TZNAME:MST
DTSTART:20241103T080000
END:STANDARD
END:VTIMEZONE
BEGIN:VEVENT
DTSTART;TZID=America/Edmonton:20230211T110000
DTEND;TZID=America/Edmonton:20230211T160000
DTSTAMP:20260420T231224
CREATED:20230203T172431Z
LAST-MODIFIED:20230203T172847Z
UID:10000141-1676113200-1676131200@northernspiritrc.ca
SUMMARY:Valentine’s Art Show and Tea @ Spirit of Hope United Church
DESCRIPTION:Join us for a delightful afternoon of tea\, fellowship and art! \nDate: February 11\, 2023 – 11:00 a.m. to 4:00 p.m.\nLocation: Spirit of Hope United Church (7909 82 Avenue NW\, Edmonton\, Alberta T6C 0Y1) \nRelax and enjoy a cup of tea while admiring artwork by local artists and connecting with others in the community. \nDon’t miss out on this chance to connect and be inspired. We look forward to seeing you there! \nFor more information\, contact the Spirit of Hope United Church office at 780.468.1418 or officeadmin@spiritofhope.ca
URL:https://northernspiritrc.ca/event/valentines-art-show-and-tea-spirit-of-hope-united-church/
LOCATION:Spirit of Hope United Church\, 7909 82 Ave NW\, Edmonton\, AB\, Canada
CATEGORIES:Community events
ORGANIZER;CN="Spirit of Hope United Church":MAILTO:officeadmin@spiritofhope.ca
END:VEVENT
BEGIN:VEVENT
DTSTART;TZID=America/Edmonton:20230211T130000
DTEND;TZID=America/Edmonton:20230211T170000
DTSTAMP:20260420T231224
CREATED:20230117T222207Z
LAST-MODIFIED:20230124T213755Z
UID:10000138-1676120400-1676134800@northernspiritrc.ca
SUMMARY:Mill Woods Previously Loved Jewelry and Scarves Fundraiser
DESCRIPTION:SAVE THE DATE ! \nSaturday February 11\, 1:00 – 5:00 PM.  \nCome\, bring a friend for coffee\, browse\, or shop!! \nCASH ONLY \nMill Woods United Church  \n15 Grand Meadow Crescent  \n(780)463 2202
URL:https://northernspiritrc.ca/event/mill-woods-previously-loved-jewelry-and-scarves-fundraiser/
LOCATION:Mill Woods United Church\, 15 Grand Meadow Cres\, Edmonton\, AB\, T6L 1A1\, Canada
CATEGORIES:Community events
END:VEVENT
END:VCALENDAR