BEGIN:VCALENDAR
VERSION:2.0
PRODID:-//Northern Spirit Regional Council - ECPv6.15.20//NONSGML v1.0//EN
CALSCALE:GREGORIAN
METHOD:PUBLISH
X-ORIGINAL-URL:https://northernspiritrc.ca
X-WR-CALDESC:Events for Northern Spirit Regional Council
REFRESH-INTERVAL;VALUE=DURATION:PT1H
X-Robots-Tag:noindex
X-PUBLISHED-TTL:PT1H
BEGIN:VTIMEZONE
TZID:America/Edmonton
BEGIN:DAYLIGHT
TZOFFSETFROM:-0700
TZOFFSETTO:-0600
TZNAME:MDT
DTSTART:20210314T090000
END:DAYLIGHT
BEGIN:STANDARD
TZOFFSETFROM:-0600
TZOFFSETTO:-0700
TZNAME:MST
DTSTART:20211107T080000
END:STANDARD
BEGIN:DAYLIGHT
TZOFFSETFROM:-0700
TZOFFSETTO:-0600
TZNAME:MDT
DTSTART:20220313T090000
END:DAYLIGHT
BEGIN:STANDARD
TZOFFSETFROM:-0600
TZOFFSETTO:-0700
TZNAME:MST
DTSTART:20221106T080000
END:STANDARD
BEGIN:DAYLIGHT
TZOFFSETFROM:-0700
TZOFFSETTO:-0600
TZNAME:MDT
DTSTART:20230312T090000
END:DAYLIGHT
BEGIN:STANDARD
TZOFFSETFROM:-0600
TZOFFSETTO:-0700
TZNAME:MST
DTSTART:20231105T080000
END:STANDARD
END:VTIMEZONE
BEGIN:VEVENT
DTSTART;VALUE=DATE:20220909
DTEND;VALUE=DATE:20221210
DTSTAMP:20260421T032055
CREATED:20220725T161836Z
LAST-MODIFIED:20220823T180027Z
UID:10000011-1662681600-1670630399@northernspiritrc.ca
SUMMARY:St. Andrew's College 3rd #NoGalaGala
DESCRIPTION:Coming this fall! St. Andrew’s College third annual NoGalaGala\, featuring Brenda Baker on Faith\, Folk\, and Feminism.\nThis is going to be an amazing event\, filled with musical performances and thought-provoking conversations … not to be missed! Get more information and your $30 tickets here\, for digital release on September 9.\nAs a registrant for this fundraiser\, you will be able to access this content exclusively on YouTube for six months following the release of the event. You can choose to watch on your own\, or organize an evening with family\, friends and/or congregants.\nYour support for the college is appreciated\, as is your ongoing trust to help St. Andrew’s prepare disciples called to go out into the world boldly and humbly.
URL:https://northernspiritrc.ca/event/st-andrews-college-3rd-nogalagala/
LOCATION:AB
CATEGORIES:Ecumenical Partners,Events,Regional Council,Regional event
END:VEVENT
BEGIN:VEVENT
DTSTART;TZID=America/Edmonton:20221129T123000
DTEND;TZID=America/Edmonton:20221129T143000
DTSTAMP:20260421T032055
CREATED:20221024T182754Z
LAST-MODIFIED:20221114T201433Z
UID:10000123-1669725000-1669732200@northernspiritrc.ca
SUMMARY:Jesus and the Marginalized conversation and learning
DESCRIPTION:Jesus and the Marginalized: Jesus Christ for Koreans in The United Church of Canada author conversation\, November 29\, 11:30AM Pacific\, 12:30PM Mountain\, 1:30PM Central.  Hosted by the Western Intercultural Ministries Network\, a 90-minute workshop and followed by a brief annual meeting for this grassroots network of intercultural ministry that covers Western Canada. All welcome! \nJesus and the Marginalized: Jesus Christ for Koreans in The United Church of Canada\, co-authored by Rev. Dr. Ohwang Kwon\, and Dr. Don Schweitzer\, explores the meaning of Jesus for Koreans in the United Church of Canada\, and in the Canadian context. The authors discuss the marginality that Koreans experience in Canada and also examines how Jesus enables Koreans to withstand this\, and live prophetically in their liminal situation. Join us for a conversation and small group discussion with Rev. Dr. Ohwang Kwon on this new book. \nRev. Dr Ohwang Kwon\, MDiv\, PhD\, is currently minister at the United Churches in Stettler\, Erskine and Big Valley\, Alberta. He has served communities of faith in Canada\, the United States and in the Republic of Korea engaged in diverse kinds of ministries. Rev. Dr. Kwon has a particular interest pursuing the solidarity between evangelism and ecumenism and by relating the gospel to current social and cultural issues such as democracy and justice. \nZoom details: https://us02web.zoom.us/j/86467673009 \nMeeting ID: 864 6767 3009
URL:https://northernspiritrc.ca/event/jesus-and-the-marginalized-conversation-and-learning/
LOCATION:Zoom
CATEGORIES:Events,Intercultural,Regional event
ATTACH;FMTTYPE=image/png:https://northernspiritrc.ca/wp-content/uploads/2022/10/HandsMakingHearts-600x400-1.png
END:VEVENT
BEGIN:VEVENT
DTSTART;TZID=America/Edmonton:20221129T123000
DTEND;TZID=America/Edmonton:20221129T143000
DTSTAMP:20260421T032055
CREATED:20221114T160715Z
LAST-MODIFIED:20221114T162134Z
UID:10000018-1669725000-1669732200@northernspiritrc.ca
SUMMARY:Western Intercultural Ministries Network workshop and AGM
DESCRIPTION:Jesus and the Marginalized: Jesus Christ for Koreans in The United Church of Canada author conversation\, and short Network AGM: November 29\, 11:30AM Pacific\, 12:30PM Mountain\, 1:30PM Central.  Hosted by the Western Intercultural Ministries Network\, a 90-minute workshop and followed by a brief annual meeting for this grassroots network of intercultural ministry that covers Western Canada. All welcome! \nJesus and the Marginalized: Jesus Christ for Koreans in The United Church of Canada\, co-authored by Rev. Dr. Ohwang Kwon\, and Dr. Don Schweitzer\, explores the meaning of Jesus for Koreans in the United Church of Canada\, and in the Canadian context. The authors discuss the marginality that Koreans experience in Canada and also examines how Jesus enables Koreans to withstand this\, and live prophetically in their liminal situation. Join us for a conversation and small group discussion with Rev. Dr. Ohwang Kwon on this new book. Please click here for full details. Share widely. \n 
URL:https://northernspiritrc.ca/event/western-intercultural-ministries-network-workshop-and-agm/
LOCATION:Zoom
CATEGORIES:Intercultural,Regional event
END:VEVENT
END:VCALENDAR