BEGIN:VCALENDAR
VERSION:2.0
PRODID:-//Northern Spirit Regional Council - ECPv6.15.20//NONSGML v1.0//EN
CALSCALE:GREGORIAN
METHOD:PUBLISH
X-ORIGINAL-URL:https://northernspiritrc.ca
X-WR-CALDESC:Events for Northern Spirit Regional Council
REFRESH-INTERVAL;VALUE=DURATION:PT1H
X-Robots-Tag:noindex
X-PUBLISHED-TTL:PT1H
BEGIN:VTIMEZONE
TZID:America/Edmonton
BEGIN:DAYLIGHT
TZOFFSETFROM:-0700
TZOFFSETTO:-0600
TZNAME:MDT
DTSTART:20210314T090000
END:DAYLIGHT
BEGIN:STANDARD
TZOFFSETFROM:-0600
TZOFFSETTO:-0700
TZNAME:MST
DTSTART:20211107T080000
END:STANDARD
BEGIN:DAYLIGHT
TZOFFSETFROM:-0700
TZOFFSETTO:-0600
TZNAME:MDT
DTSTART:20220313T090000
END:DAYLIGHT
BEGIN:STANDARD
TZOFFSETFROM:-0600
TZOFFSETTO:-0700
TZNAME:MST
DTSTART:20221106T080000
END:STANDARD
BEGIN:DAYLIGHT
TZOFFSETFROM:-0700
TZOFFSETTO:-0600
TZNAME:MDT
DTSTART:20230312T090000
END:DAYLIGHT
BEGIN:STANDARD
TZOFFSETFROM:-0600
TZOFFSETTO:-0700
TZNAME:MST
DTSTART:20231105T080000
END:STANDARD
END:VTIMEZONE
BEGIN:VEVENT
DTSTART;VALUE=DATE:20220909
DTEND;VALUE=DATE:20221210
DTSTAMP:20260421T060934
CREATED:20220725T161836Z
LAST-MODIFIED:20220823T180027Z
UID:10000011-1662681600-1670630399@northernspiritrc.ca
SUMMARY:St. Andrew's College 3rd #NoGalaGala
DESCRIPTION:Coming this fall! St. Andrew’s College third annual NoGalaGala\, featuring Brenda Baker on Faith\, Folk\, and Feminism.\nThis is going to be an amazing event\, filled with musical performances and thought-provoking conversations … not to be missed! Get more information and your $30 tickets here\, for digital release on September 9.\nAs a registrant for this fundraiser\, you will be able to access this content exclusively on YouTube for six months following the release of the event. You can choose to watch on your own\, or organize an evening with family\, friends and/or congregants.\nYour support for the college is appreciated\, as is your ongoing trust to help St. Andrew’s prepare disciples called to go out into the world boldly and humbly.
URL:https://northernspiritrc.ca/event/st-andrews-college-3rd-nogalagala/
LOCATION:AB
CATEGORIES:Ecumenical Partners,Events,Regional Council,Regional event
END:VEVENT
BEGIN:VEVENT
DTSTART;TZID=America/Edmonton:20221119T100000
DTEND;TZID=America/Edmonton:20221119T140000
DTSTAMP:20260421T060934
CREATED:20221103T175626Z
LAST-MODIFIED:20221103T175922Z
UID:10000014-1668852000-1668866400@northernspiritrc.ca
SUMMARY:Grace United Church (Edmonton) Fall Bazaar
DESCRIPTION:Bake sale\, new and new-to-you gifts\, crafts and Christmas items.\nLunch for $10 – adults\, $5 – children under 12.\nSanta will be visiting from 11-1!
URL:https://northernspiritrc.ca/event/grace-united-church-edmonton-fall-bazaar/
LOCATION:Grace United Church\, 6215 104 Ave\, Edmonton\, AB\, Canada
CATEGORIES:Community events
END:VEVENT
BEGIN:VEVENT
DTSTART;TZID=America/Edmonton:20221119T170000
DTEND;TZID=America/Edmonton:20221119T200000
DTSTAMP:20260421T060934
CREATED:20221103T170529Z
LAST-MODIFIED:20221103T170529Z
UID:10000127-1668877200-1668888000@northernspiritrc.ca
SUMMARY:Ardrossan United Church - Turkey Supper
DESCRIPTION:November 19\, 2022\nTwo Settings 5:00 and 6:30pm \nAdults: $25\nChildren $10\nUnder 6 Free \nCall 780-464-7235 \n22 Main Street\, Ardrossan
URL:https://northernspiritrc.ca/event/ardrossan-united-church-turkey-supper/
LOCATION:Ardrossan United Church\, 22 Main Street\, Ardrossan\, AB\, Canada
CATEGORIES:Community events
END:VEVENT
BEGIN:VEVENT
DTSTART;TZID=America/Edmonton:20221119T190000
DTEND;TZID=America/Edmonton:20221119T203000
DTSTAMP:20260421T060934
CREATED:20221103T212644Z
LAST-MODIFIED:20221103T212644Z
UID:10000016-1668884400-1668889800@northernspiritrc.ca
SUMMARY:Live theatre: Join us for the play 5-South
DESCRIPTION:A One Act\, Comedy Play – written and performed by Rebecca Merkley\nThis captivatingly honest\, and often hilarious\, solo performance revisits the author’s journey in the psych ward\, secluded away on the 5th floor in the south wing of the hospital.\nThis is a fundraiser for St. Paul’s United Church\, Grande Prairie – 10206 100 Avenue\nTickets are $20.00 (Adults); $15.00 (Seniors or Students)\nIn Person Tickets through GPLT Box Office 780-538-1616\nLivestream Tickets through the Church Office 780-532-2415
URL:https://northernspiritrc.ca/event/live-theatre-join-us-for-the-play-5-south/2022-11-19/
LOCATION:St Paul’s United Church Grande Prairie\, 10206 100 Avenue\, Grande Prairie\, Alberta\, T8V 0V6\, Canada
CATEGORIES:Community events
ORGANIZER;CN="St Paul's United Church%2C Grande Prairie":MAILTO:secretary@stpaulsuc.ca
END:VEVENT
END:VCALENDAR