BEGIN:VCALENDAR
VERSION:2.0
PRODID:-//Northern Spirit Regional Council - ECPv6.15.20//NONSGML v1.0//EN
CALSCALE:GREGORIAN
METHOD:PUBLISH
X-ORIGINAL-URL:https://northernspiritrc.ca
X-WR-CALDESC:Events for Northern Spirit Regional Council
REFRESH-INTERVAL;VALUE=DURATION:PT1H
X-Robots-Tag:noindex
X-PUBLISHED-TTL:PT1H
BEGIN:VTIMEZONE
TZID:America/Edmonton
BEGIN:DAYLIGHT
TZOFFSETFROM:-0700
TZOFFSETTO:-0600
TZNAME:MDT
DTSTART:20210314T090000
END:DAYLIGHT
BEGIN:STANDARD
TZOFFSETFROM:-0600
TZOFFSETTO:-0700
TZNAME:MST
DTSTART:20211107T080000
END:STANDARD
BEGIN:DAYLIGHT
TZOFFSETFROM:-0700
TZOFFSETTO:-0600
TZNAME:MDT
DTSTART:20220313T090000
END:DAYLIGHT
BEGIN:STANDARD
TZOFFSETFROM:-0600
TZOFFSETTO:-0700
TZNAME:MST
DTSTART:20221106T080000
END:STANDARD
BEGIN:DAYLIGHT
TZOFFSETFROM:-0700
TZOFFSETTO:-0600
TZNAME:MDT
DTSTART:20230312T090000
END:DAYLIGHT
BEGIN:STANDARD
TZOFFSETFROM:-0600
TZOFFSETTO:-0700
TZNAME:MST
DTSTART:20231105T080000
END:STANDARD
END:VTIMEZONE
BEGIN:VEVENT
DTSTART;TZID=America/Edmonton:20220622T183000
DTEND;TZID=America/Edmonton:20220622T200000
DTSTAMP:20260421T150355
CREATED:20220518T222813Z
LAST-MODIFIED:20220518T222919Z
UID:10000003-1655922600-1655928000@northernspiritrc.ca
SUMMARY:Anti-racism action planning for communities of faith workshops
DESCRIPTION:Anti-racism action planning for communities of faith weekly in June: register now!\nNorthern Spirit\, Living Skies\, and Prairie to Pine Regional Councils invite at least one lay member and one ministry personnel from up to 24 communities of faith within our bounds to this series. In four weekly sessions June 8\, 15\, 22\, and 29\, 6:30-8:00 PM Mountain Daylight\, we’ll focus on the new book Wait- is this racist? We’ll also bring this work into the Canadian and United Church context with resource people and a focus on the United Church’s Anti Racism Action Plan. \nFacilitation team: Russel Burns (National Indigenous Council)\, Jordan Cantwell (Living Skies)\, and Paul Douglas Walfall (Northern Spirit)\, with possibly more TBA. Thanks to Paul for the spark! \nPlease see the registration form for more details. You can order the book from United Church Resource Distribution; the Region will pay for it. As shipping can be expensive\, consider doing a larger single order with others where possible. \nQuestions\, including setting up your mini team? Please contact staff support Julie Graham and she can contact the facilitation team: jgraham@united-church.ca\nClick here for the Facebook event. Please share all promotion freely.
URL:https://northernspiritrc.ca/event/anti-racism-action-planning-for-communities-of-faith-workshops/2022-06-22/
LOCATION:Zoom
CATEGORIES:Events,Intercultural,Regional event,Right Relations
END:VEVENT
END:VCALENDAR