BEGIN:VCALENDAR
VERSION:2.0
PRODID:-//Northern Spirit Regional Council - ECPv6.15.20//NONSGML v1.0//EN
CALSCALE:GREGORIAN
METHOD:PUBLISH
X-WR-CALNAME:Northern Spirit Regional Council
X-ORIGINAL-URL:https://northernspiritrc.ca
X-WR-CALDESC:Events for Northern Spirit Regional Council
REFRESH-INTERVAL;VALUE=DURATION:PT1H
X-Robots-Tag:noindex
X-PUBLISHED-TTL:PT1H
BEGIN:VTIMEZONE
TZID:America/Edmonton
BEGIN:DAYLIGHT
TZOFFSETFROM:-0700
TZOFFSETTO:-0600
TZNAME:MDT
DTSTART:20210314T090000
END:DAYLIGHT
BEGIN:STANDARD
TZOFFSETFROM:-0600
TZOFFSETTO:-0700
TZNAME:MST
DTSTART:20211107T080000
END:STANDARD
BEGIN:DAYLIGHT
TZOFFSETFROM:-0700
TZOFFSETTO:-0600
TZNAME:MDT
DTSTART:20220313T090000
END:DAYLIGHT
BEGIN:STANDARD
TZOFFSETFROM:-0600
TZOFFSETTO:-0700
TZNAME:MST
DTSTART:20221106T080000
END:STANDARD
BEGIN:DAYLIGHT
TZOFFSETFROM:-0700
TZOFFSETTO:-0600
TZNAME:MDT
DTSTART:20230312T090000
END:DAYLIGHT
BEGIN:STANDARD
TZOFFSETFROM:-0600
TZOFFSETTO:-0700
TZNAME:MST
DTSTART:20231105T080000
END:STANDARD
END:VTIMEZONE
BEGIN:VEVENT
DTSTART;TZID=America/Edmonton:20220618T130000
DTEND;TZID=America/Edmonton:20220618T160000
DTSTAMP:20260421T145004
CREATED:20220524T214533Z
LAST-MODIFIED:20220524T214533Z
UID:10000005-1655557200-1655568000@northernspiritrc.ca
SUMMARY:Grand Reopening at Spirit of Hope United Church\, Edmonton
DESCRIPTION:After a year of renovation construction at Spirit of Hope United\, we welcome you for our Grand Reopening: an afternoon of celebration\, fellowship\, fun and music. Our dedication service at 1 p.m. will be followed by an outdoor reception with activities for all and tours of our beautiful building! Gather again in our sanctuary at 3 p.m. for an organ concert by Music Director Warren Mack.
URL:https://northernspiritrc.ca/event/grand-reopening-at-spirit-of-hope-united-church-edmonton/
LOCATION:Spirit of Hope United Church\, 7909 82 Ave NW\, Edmonton\, AB\, Canada
CATEGORIES:Community events
ATTACH;FMTTYPE=image/jpeg:https://northernspiritrc.ca/wp-content/uploads/2022/05/Chancel-photo-for-Facebook.jpg
END:VEVENT
END:VCALENDAR