BEGIN:VCALENDAR
VERSION:2.0
PRODID:-//Northern Spirit Regional Council - ECPv6.15.20//NONSGML v1.0//EN
CALSCALE:GREGORIAN
METHOD:PUBLISH
X-ORIGINAL-URL:https://northernspiritrc.ca
X-WR-CALDESC:Events for Northern Spirit Regional Council
REFRESH-INTERVAL;VALUE=DURATION:PT1H
X-Robots-Tag:noindex
X-PUBLISHED-TTL:PT1H
BEGIN:VTIMEZONE
TZID:America/Edmonton
BEGIN:DAYLIGHT
TZOFFSETFROM:-0700
TZOFFSETTO:-0600
TZNAME:MDT
DTSTART:20210314T090000
END:DAYLIGHT
BEGIN:STANDARD
TZOFFSETFROM:-0600
TZOFFSETTO:-0700
TZNAME:MST
DTSTART:20211107T080000
END:STANDARD
BEGIN:DAYLIGHT
TZOFFSETFROM:-0700
TZOFFSETTO:-0600
TZNAME:MDT
DTSTART:20220313T090000
END:DAYLIGHT
BEGIN:STANDARD
TZOFFSETFROM:-0600
TZOFFSETTO:-0700
TZNAME:MST
DTSTART:20221106T080000
END:STANDARD
BEGIN:DAYLIGHT
TZOFFSETFROM:-0700
TZOFFSETTO:-0600
TZNAME:MDT
DTSTART:20230312T090000
END:DAYLIGHT
BEGIN:STANDARD
TZOFFSETFROM:-0600
TZOFFSETTO:-0700
TZNAME:MST
DTSTART:20231105T080000
END:STANDARD
END:VTIMEZONE
BEGIN:VEVENT
DTSTART;TZID=America/Edmonton:20220422T100000
DTEND;TZID=America/Edmonton:20220422T160000
DTSTAMP:20260421T172440
CREATED:20220330T172446Z
LAST-MODIFIED:20220330T172446Z
UID:10000027-1650621600-1650643200@northernspiritrc.ca
SUMMARY:Women of the United Church of Canada: Annual General Meeting
DESCRIPTION:Thursday-Friday\, April 21-22\, 2022\, 10 am-Noon and 1-4 pm (MDT) (both days) \nThe Annual General Meeting of the Women of the United Church: Chinook Winds and Northern Spirit\, will be held via Zoom on Thursday and Friday April 21 and 22\, 2022. The sessions on both days will be from 10:00 am to Noon and 1:00 to 4:00 pm (MDT). The theme is\, Getting to Know You: All God’s People. The guest speaker who will address the topic of Process of Sponsoring a Refugee\, will be Claire McMordie\, Barrister and Solicitor; Counsel\, West End Legal Centre; and a member of Scarboro United Church\, Calgary. \nInformation and registration forms are being distributed by Susan Oleskiw\, se.oles@telus.net.
URL:https://northernspiritrc.ca/event/women-of-the-united-church-of-canada-annual-general-meeting/2022-04-22/
LOCATION:AB
CATEGORIES:Regional event
ATTACH;FMTTYPE=image/png:https://northernspiritrc.ca/wp-content/uploads/2021/08/EarthCareImage.png
END:VEVENT
END:VCALENDAR