BEGIN:VCALENDAR
VERSION:2.0
PRODID:-//Northern Spirit Regional Council - ECPv6.15.20//NONSGML v1.0//EN
CALSCALE:GREGORIAN
METHOD:PUBLISH
X-ORIGINAL-URL:https://northernspiritrc.ca
X-WR-CALDESC:Events for Northern Spirit Regional Council
REFRESH-INTERVAL;VALUE=DURATION:PT1H
X-Robots-Tag:noindex
X-PUBLISHED-TTL:PT1H
BEGIN:VTIMEZONE
TZID:America/Edmonton
BEGIN:DAYLIGHT
TZOFFSETFROM:-0700
TZOFFSETTO:-0600
TZNAME:MDT
DTSTART:20200308T090000
END:DAYLIGHT
BEGIN:STANDARD
TZOFFSETFROM:-0600
TZOFFSETTO:-0700
TZNAME:MST
DTSTART:20201101T080000
END:STANDARD
BEGIN:DAYLIGHT
TZOFFSETFROM:-0700
TZOFFSETTO:-0600
TZNAME:MDT
DTSTART:20210314T090000
END:DAYLIGHT
BEGIN:STANDARD
TZOFFSETFROM:-0600
TZOFFSETTO:-0700
TZNAME:MST
DTSTART:20211107T080000
END:STANDARD
BEGIN:DAYLIGHT
TZOFFSETFROM:-0700
TZOFFSETTO:-0600
TZNAME:MDT
DTSTART:20220313T090000
END:DAYLIGHT
BEGIN:STANDARD
TZOFFSETFROM:-0600
TZOFFSETTO:-0700
TZNAME:MST
DTSTART:20221106T080000
END:STANDARD
END:VTIMEZONE
BEGIN:VEVENT
DTSTART;VALUE=DATE:20210215
DTEND;VALUE=DATE:20210301
DTSTAMP:20260422T141924
CREATED:20210222T141554Z
LAST-MODIFIED:20210222T141554Z
UID:10000035-1613347200-1614556799@northernspiritrc.ca
SUMMARY:Online Auction to Support Ottewell United Church
DESCRIPTION:An online auction featuring many items and services in support of Ottewell United Church
URL:https://northernspiritrc.ca/event/online-auction-to-support-ottewell-united-church/
LOCATION:Ottewell United Church\, 6611-93A Ave\, Edmonton\, AB\, Canada
CATEGORIES:Community events
ATTACH;FMTTYPE=image/jpeg:https://northernspiritrc.ca/wp-content/uploads/2021/02/20190623_094050-scaled.jpg
END:VEVENT
BEGIN:VEVENT
DTSTART;TZID=America/Edmonton:20210215T100000
DTEND;TZID=America/Edmonton:20210228T100000
DTSTAMP:20260422T141924
CREATED:20210222T141620Z
LAST-MODIFIED:20210222T141620Z
UID:10000046-1613383200-1614506400@northernspiritrc.ca
SUMMARY:Online Auction to Support Ottewell United Church
DESCRIPTION:Greetings fellow bidders! We invite you to browse our auction catalogue and bid on a variety of items including sports and recreation items\, family passes\, services\, antiques\, handcrafts\, tech\, fitness and more!
URL:https://northernspiritrc.ca/event/online-auction-to-support-ottewell-united-church-2/
LOCATION:AB
CATEGORIES:Community events
END:VEVENT
BEGIN:VEVENT
DTSTART;TZID=America/Edmonton:20210218T190000
DTEND;TZID=America/Edmonton:20210218T203000
DTSTAMP:20260422T141925
CREATED:20210208T224114Z
LAST-MODIFIED:20210208T224114Z
UID:10000052-1613674800-1613680200@northernspiritrc.ca
SUMMARY:Lenten Book Study – “Learning to Walk in the Dark”
DESCRIPTION:Join me on five Thursday evenings in Lent\, starting on February 18 at 7 pm\, for a Zoom gathering to discuss a 2014 book by one of my favorite preachers and thinkers\, Barbara Brown Taylor. Learning to Walk in the Dark is available as an e-book for $12. Taylor wrote it to help us maintain a healthy spiritual life in those times when we don’t have all the answers. She argues that we need to move away from “solar spirituality” and ease our way into appreciating “lunar spirituality” since\, like the moon\, our experience of the light waxes and wanes. \nTo gain a sense of Taylor as a writer\, I recommend an article of hers published by The Christian Century last July – “Finding God outside the church walls.” \nIf you are interested in participating or would like more information\, please drop me a line – iankellogg@hotmail.com
URL:https://northernspiritrc.ca/event/lenten-book-study-learning-to-walk-in-the-dark/
LOCATION:Zoom
CATEGORIES:Community events,Events
ATTACH;FMTTYPE=image/jpeg:https://northernspiritrc.ca/wp-content/uploads/2020/11/hudson-hintze-vpxeE7s-my4-unsplash-scaled.jpg
END:VEVENT
END:VCALENDAR