BEGIN:VCALENDAR
VERSION:2.0
PRODID:-//Northern Spirit Regional Council - ECPv6.15.20//NONSGML v1.0//EN
CALSCALE:GREGORIAN
METHOD:PUBLISH
X-WR-CALNAME:Northern Spirit Regional Council
X-ORIGINAL-URL:https://northernspiritrc.ca
X-WR-CALDESC:Events for Northern Spirit Regional Council
REFRESH-INTERVAL;VALUE=DURATION:PT1H
X-Robots-Tag:noindex
X-PUBLISHED-TTL:PT1H
BEGIN:VTIMEZONE
TZID:America/Edmonton
BEGIN:DAYLIGHT
TZOFFSETFROM:-0700
TZOFFSETTO:-0600
TZNAME:MDT
DTSTART:20190310T090000
END:DAYLIGHT
BEGIN:STANDARD
TZOFFSETFROM:-0600
TZOFFSETTO:-0700
TZNAME:MST
DTSTART:20191103T080000
END:STANDARD
BEGIN:DAYLIGHT
TZOFFSETFROM:-0700
TZOFFSETTO:-0600
TZNAME:MDT
DTSTART:20200308T090000
END:DAYLIGHT
BEGIN:STANDARD
TZOFFSETFROM:-0600
TZOFFSETTO:-0700
TZNAME:MST
DTSTART:20201101T080000
END:STANDARD
BEGIN:DAYLIGHT
TZOFFSETFROM:-0700
TZOFFSETTO:-0600
TZNAME:MDT
DTSTART:20210314T090000
END:DAYLIGHT
BEGIN:STANDARD
TZOFFSETFROM:-0600
TZOFFSETTO:-0700
TZNAME:MST
DTSTART:20211107T080000
END:STANDARD
END:VTIMEZONE
BEGIN:VEVENT
DTSTART;TZID=America/Edmonton:20200624T180000
DTEND;TZID=America/Edmonton:20200624T193000
DTSTAMP:20260423T102030
CREATED:20200610T173321Z
LAST-MODIFIED:20200610T173321Z
UID:10000060-1593021600-1593027000@northernspiritrc.ca
SUMMARY:Breaking the Gender Binary One Word at a Time
DESCRIPTION:Conversations about gender diversity and the power of language\, 6:00PM in AB and SK\, 7:00PM in MB and NW ON. \nWhat is gender inclusive language and how does it have the power to embrace or exclude non-binary\, Two Spirit\, trans\, agender\, and gender queer people? Join us for a practical discussion about evolving language and personal perspectives on its importance. All welcome.\nThe Zoom link is here. Need to phone in? 1-855 703 8985 (Canada Toll-free) and enter meeting ID\n940 3191 7505\nPassword: 492676 \nThis gathering is especially recommended for Regional Council delegates who will be voting on Remit 1 this fall. In the fall of 2020\, delegates to the regional annual meeting will be voting on a remit to make a small but important change to the Basis of Union. Current wording about eligibility for ministry uses “men and women”\, and the wording would be changed to “all people”\, to reflect a diversity of gender identities. (Further background is here.)
URL:https://northernspiritrc.ca/event/breaking-the-gender-binary-one-word-at-a-time/
LOCATION:Zoom
CATEGORIES:Events,LGBTQIA2S+,Regional event
ATTACH;FMTTYPE=image/jpeg:https://northernspiritrc.ca/wp-content/uploads/2020/02/Canva-null-scaled-e1590434446501.jpg
END:VEVENT
END:VCALENDAR