BEGIN:VCALENDAR
VERSION:2.0
PRODID:-//Northern Spirit Regional Council - ECPv6.15.20//NONSGML v1.0//EN
CALSCALE:GREGORIAN
METHOD:PUBLISH
X-ORIGINAL-URL:https://northernspiritrc.ca
X-WR-CALDESC:Events for Northern Spirit Regional Council
REFRESH-INTERVAL;VALUE=DURATION:PT1H
X-Robots-Tag:noindex
X-PUBLISHED-TTL:PT1H
BEGIN:VTIMEZONE
TZID:America/Edmonton
BEGIN:DAYLIGHT
TZOFFSETFROM:-0700
TZOFFSETTO:-0600
TZNAME:MDT
DTSTART:20190310T090000
END:DAYLIGHT
BEGIN:STANDARD
TZOFFSETFROM:-0600
TZOFFSETTO:-0700
TZNAME:MST
DTSTART:20191103T080000
END:STANDARD
BEGIN:DAYLIGHT
TZOFFSETFROM:-0700
TZOFFSETTO:-0600
TZNAME:MDT
DTSTART:20200308T090000
END:DAYLIGHT
BEGIN:STANDARD
TZOFFSETFROM:-0600
TZOFFSETTO:-0700
TZNAME:MST
DTSTART:20201101T080000
END:STANDARD
BEGIN:DAYLIGHT
TZOFFSETFROM:-0700
TZOFFSETTO:-0600
TZNAME:MDT
DTSTART:20210314T090000
END:DAYLIGHT
BEGIN:STANDARD
TZOFFSETFROM:-0600
TZOFFSETTO:-0700
TZNAME:MST
DTSTART:20211107T080000
END:STANDARD
END:VTIMEZONE
BEGIN:VEVENT
DTSTART;TZID=America/Edmonton:20200408T183000
DTEND;TZID=America/Edmonton:20200408T200000
DTSTAMP:20260423T143535
CREATED:20200323T201228Z
LAST-MODIFIED:20200408T223830Z
UID:10000042-1586370600-1586376000@northernspiritrc.ca
SUMMARY:CANCELLED FOR APRIL 8 Regional Councils Lay Leaders COVID weekly check in
DESCRIPTION:Lay Leaders and Pastoral Charge Supervisors will gather Wednesdays at:\n5:30 PM in BC; 6:30 PM in AB and NWT. \nSome meetings will have specific resource people\, in which case\, ministry personnel are welcome to join. These gatherings cover the Northern Spirit\, Living Skies\, and Prairie to Pine Regional Councils. \nRecurring link:  https://united-church.zoom.us/j/978525442     Dial in if you have a limited or slow connection: 1-855-703-8985. Meeting ID is in the link: 978 525 442 \nApril 1: Nora Sanders\, United Church General Secretary\, will be joining the meeting. \nApril 8: The gathering will be cancelled in recognition of Holy Week.
URL:https://northernspiritrc.ca/event/regional-councils-lay-leaders-covid-weekly-check-in-2020-04-08/
LOCATION:AB
CATEGORIES:Events,Regional event
ATTACH;FMTTYPE=image/jpeg:https://northernspiritrc.ca/wp-content/uploads/2020/02/Canva-CuppedHands-Holding-Lit-Candle-Photo-by-Myriams-Fotos-scaled-e1584742572294.jpg
END:VEVENT
END:VCALENDAR